BEGIN:VCALENDAR
VERSION:2.0
PRODID:-//jEvents 2.0 for Joomla//EN
CALSCALE:GREGORIAN
METHOD:PUBLISH
BEGIN:VTIMEZONE
TZID:Europe/Berlin
END:VTIMEZONE
BEGIN:VEVENT
UID:abdc11861e7f324cbc3d9ef07027d356
CATEGORIES:Boot Likedeeler
CREATED:20250901T100834
SUMMARY:ERV DeichDynamik
DESCRIPTION;ENCODING=QUOTED-PRINTABLE:
X-EXTRAINFO:Tobias Bruns
DTSTAMP:20260421T112816Z
DTSTART;TZID=Europe/Berlin:20250908T190000
DTEND;TZID=Europe/Berlin:20250908T200000
SEQUENCE:0
TRANSP:OPAQUE
END:VEVENT
END:VCALENDAR