BEGIN:VCALENDAR
VERSION:2.0
PRODID:-//jEvents 2.0 for Joomla//EN
CALSCALE:GREGORIAN
METHOD:PUBLISH
BEGIN:VTIMEZONE
TZID:Europe/Berlin
END:VTIMEZONE
BEGIN:VEVENT
UID:cc355f2b49ccdefe3d0bf42507b3b6ac
CATEGORIES:Boot HEL-ga 
CREATED:19700101T010000
SUMMARY:Pink Paddler
DESCRIPTION;ENCODING=QUOTED-PRINTABLE:
X-EXTRAINFO:Ulrike Matull 
DTSTAMP:20260419T141711Z
DTSTART;TZID=Europe/Berlin:20250331T160000
DTEND;TZID=Europe/Berlin:20250331T170000
SEQUENCE:0
RRULE:FREQ=WEEKLY;UNTIL=20251028T000000Z;INTERVAL=1;BYDAY=MO
TRANSP:OPAQUE
END:VEVENT
END:VCALENDAR