BEGIN:VCALENDAR
VERSION:2.0
PRODID:-//jEvents 2.0 for Joomla//EN
CALSCALE:GREGORIAN
METHOD:PUBLISH
BEGIN:VTIMEZONE
TZID:Europe/Berlin
END:VTIMEZONE
BEGIN:VEVENT
UID:d68adffbea8a1b79fb0ddbac3b8bb1b0
CATEGORIES:Boot Likedeeler
CREATED:19700101T010000
SUMMARY:Tempel der Lüste
LOCATION:ERV
DESCRIPTION;ENCODING=QUOTED-PRINTABLE:
CONTACT:Sven Benscheck
X-EXTRAINFO:Steuermann Sven Benscheck 
DTSTAMP:20260424T050831Z
DTSTART;TZID=Europe/Berlin:20220521T120000
DTEND;TZID=Europe/Berlin:20220521T130000
SEQUENCE:0
RRULE:FREQ=WEEKLY;UNTIL=20220703T000000Z;INTERVAL=1;BYDAY=SA
TRANSP:OPAQUE
END:VEVENT
END:VCALENDAR