BEGIN:VCALENDAR
VERSION:2.0
PRODID:-//jEvents 2.0 for Joomla//EN
CALSCALE:GREGORIAN
METHOD:PUBLISH
BEGIN:VTIMEZONE
TZID:Europe/Berlin
END:VTIMEZONE
BEGIN:VEVENT
UID:be8accc8cfa3ae6b918a9c28dd80c605
CATEGORIES:Terminliste
CREATED:20260109T175800
SUMMARY:Ruder-Schnupperkurs Erwachsene 
DESCRIPTION;ENCODING=QUOTED-PRINTABLE:<p>Ruderschnupperkurs Erwachsene&nbsp;</p>
DTSTAMP:20260420T122551Z
DTSTART;TZID=Europe/Berlin:20260529T170000
DTEND;TZID=Europe/Berlin;VALUE=DATE:20260606
SEQUENCE:0
TRANSP:OPAQUE
END:VEVENT
END:VCALENDAR