BEGIN:VCALENDAR
VERSION:2.0
PRODID:-//jEvents 2.0 for Joomla//EN
CALSCALE:GREGORIAN
METHOD:PUBLISH
BEGIN:VTIMEZONE
TZID:Europe/Berlin
END:VTIMEZONE
BEGIN:VEVENT
UID:53150d4210381ef3ebff6218be0cfd21
CATEGORIES:Terminliste
CREATED:20250130T141320
SUMMARY:JHV im ERV
DESCRIPTION;ENCODING=QUOTED-PRINTABLE:
DTSTAMP:20260424T173730Z
DTSTART;TZID=Europe/Berlin:20250424T193000
SEQUENCE:0
TRANSP:OPAQUE
END:VEVENT
END:VCALENDAR