BEGIN:VCALENDAR
VERSION:2.0
PRODID:-//jEvents 2.0 for Joomla//EN
CALSCALE:GREGORIAN
METHOD:PUBLISH
BEGIN:VTIMEZONE
TZID:Europe/Berlin
END:VTIMEZONE
BEGIN:VEVENT
UID:5b1009dcc5c7e4eff8600219aad8828f
CATEGORIES:Terminliste
CREATED:20240321T101642
SUMMARY:Schnupperkurs Erwachsene 
DESCRIPTION;ENCODING=QUOTED-PRINTABLE:\n\nRuder-Schnupper-Kurs für Erwachsene , siehe Home Emder Ruderverein (Aus
 schreibung /Anmeldung )\n
DTSTAMP:20260422T162153Z
DTSTART;TZID=Europe/Berlin:20240524T170000
DTEND;TZID=Europe/Berlin;VALUE=DATE:20240601
SEQUENCE:0
TRANSP:OPAQUE
END:VEVENT
END:VCALENDAR