BEGIN:VCALENDAR
VERSION:2.0
PRODID:-//jEvents 2.0 for Joomla//EN
CALSCALE:GREGORIAN
METHOD:PUBLISH
BEGIN:VTIMEZONE
TZID:Europe/Berlin
END:VTIMEZONE
BEGIN:VEVENT
UID:c2d3bdd08eed9fdc74c1165739350257
CATEGORIES:Terminliste
CREATED:20240117T103829
SUMMARY:Jahreshauptversammlung  allg.Sportabteilung 
DESCRIPTION;ENCODING=QUOTED-PRINTABLE:<p>allgemeine Sportabteilung&nbsp;</p>
DTSTAMP:20260419T230057Z
DTSTART;TZID=Europe/Berlin:20240426T190000
SEQUENCE:0
TRANSP:OPAQUE
END:VEVENT
END:VCALENDAR