BEGIN:VCALENDAR
VERSION:2.0
PRODID:-//jEvents 2.0 for Joomla//EN
CALSCALE:GREGORIAN
METHOD:PUBLISH
BEGIN:VTIMEZONE
TZID:Europe/Berlin
END:VTIMEZONE
BEGIN:VEVENT
UID:d7c101257fab7fa8875652059ee0c140
CATEGORIES:Terminliste
CREATED:20231012T145711
SUMMARY:Abgrillen und Angroggen
DESCRIPTION;ENCODING=QUOTED-PRINTABLE:
DTSTAMP:20260422T005210Z
DTSTART;TZID=Europe/Berlin;VALUE=DATE:20231228
DTEND;TZID=Europe/Berlin;VALUE=DATE:20231229
SEQUENCE:0
TRANSP:OPAQUE
END:VEVENT
END:VCALENDAR