BEGIN:VCALENDAR
VERSION:2.0
PRODID:-//jEvents 2.0 for Joomla//EN
CALSCALE:GREGORIAN
METHOD:PUBLISH
BEGIN:VTIMEZONE
TZID:Europe/Berlin
END:VTIMEZONE
BEGIN:VEVENT
UID:6d05826267deff006cc5a63952ff0b72
CATEGORIES:Terminliste
CREATED:20231012T145625
SUMMARY:Adventsrudern
DESCRIPTION;ENCODING=QUOTED-PRINTABLE:\n\ns. Aushang&nbsp;\n
DTSTAMP:20260420T004555Z
DTSTART;TZID=Europe/Berlin;VALUE=DATE:20231203
DTEND;TZID=Europe/Berlin;VALUE=DATE:20231204
SEQUENCE:0
TRANSP:OPAQUE
END:VEVENT
END:VCALENDAR