BEGIN:VCALENDAR
VERSION:2.0
PRODID:-//jEvents 2.0 for Joomla//EN
CALSCALE:GREGORIAN
METHOD:PUBLISH
BEGIN:VTIMEZONE
TZID:Europe/Berlin
END:VTIMEZONE
BEGIN:VEVENT
UID:d96c1df9839eda9635ded958d314f99c
CATEGORIES:Terminliste
CREATED:20221216T130222
SUMMARY:Steuermannsausbildung Drachenboot
DESCRIPTION;ENCODING=QUOTED-PRINTABLE:<p>Steuermannsausbildung für Drachenboot&nbsp;</p>
X-EXTRAINFO:im ERV
DTSTAMP:20260421T151027Z
DTSTART;TZID=Europe/Berlin;VALUE=DATE:20230325
DTEND;TZID=Europe/Berlin;VALUE=DATE:20230326
SEQUENCE:0
TRANSP:OPAQUE
END:VEVENT
END:VCALENDAR