BEGIN:VCALENDAR
VERSION:2.0
PRODID:-//jEvents 2.0 for Joomla//EN
CALSCALE:GREGORIAN
METHOD:PUBLISH
BEGIN:VTIMEZONE
TZID:Europe/Berlin
END:VTIMEZONE
BEGIN:VEVENT
UID:c7b1f36b425a2811224c7ed1ddd730a5
CATEGORIES:Terminliste
CREATED:20221216T124829
SUMMARY:Wanderfahrt gr. Meer
DESCRIPTION;ENCODING=QUOTED-PRINTABLE:<p>mit Einkehr im Meerwarthaus , Aushang beachten&nbsp;</p>
DTSTAMP:20260421T002111Z
DTSTART;TZID=Europe/Berlin;VALUE=DATE:20230501
DTEND;TZID=Europe/Berlin;VALUE=DATE:20230502
SEQUENCE:0
TRANSP:OPAQUE
END:VEVENT
END:VCALENDAR