BEGIN:VCALENDAR
VERSION:2.0
PRODID:-//jEvents 2.0 for Joomla//EN
CALSCALE:GREGORIAN
METHOD:PUBLISH
BEGIN:VTIMEZONE
TZID:Europe/Berlin
END:VTIMEZONE
BEGIN:VEVENT
UID:78693d05ff3d50bd08c4b6626062ee88
CATEGORIES:Terminliste
CREATED:20220716T181843
SUMMARY:Frühschoppen bei Feldkamp
DESCRIPTION;ENCODING=QUOTED-PRINTABLE:<p>Start 9:30 Uhr</p>
DTSTAMP:20260423T070811Z
DTSTART;TZID=Europe/Berlin:20221113T093000
SEQUENCE:0
TRANSP:OPAQUE
END:VEVENT
END:VCALENDAR