BEGIN:VCALENDAR
VERSION:2.0
PRODID:-//jEvents 2.0 for Joomla//EN
CALSCALE:GREGORIAN
METHOD:PUBLISH
BEGIN:VTIMEZONE
TZID:Europe/Berlin
END:VTIMEZONE
BEGIN:VEVENT
UID:db0ed7cc959650a1fb15f98486469f23
CATEGORIES:Terminliste
CREATED:20220716T181541
SUMMARY:Jung und Alt zum Bullkamp
DESCRIPTION;ENCODING=QUOTED-PRINTABLE:<p>Jung und Alt mit gemeinsamen Grillen</p>
DTSTAMP:20260422T113035Z
DTSTART;TZID=Europe/Berlin;VALUE=DATE:20220930
DTEND;TZID=Europe/Berlin;VALUE=DATE:20221001
SEQUENCE:0
TRANSP:OPAQUE
END:VEVENT
END:VCALENDAR