BEGIN:VCALENDAR
VERSION:2.0
PRODID:-//jEvents 2.0 for Joomla//EN
CALSCALE:GREGORIAN
METHOD:PUBLISH
BEGIN:VTIMEZONE
TZID:Europe/Berlin
END:VTIMEZONE
BEGIN:VEVENT
UID:4dc0a5ea843957b260288f98ef48ef4c
CATEGORIES:Terminliste
CREATED:20220403T083753
SUMMARY:Deutsche Meisterschaften Köln
DESCRIPTION;ENCODING=QUOTED-PRINTABLE:<p>Deutsche Meisterschaften Köln</p>
DTSTAMP:20260422T111659Z
DTSTART;TZID=Europe/Berlin;VALUE=DATE:20220623
DTEND;TZID=Europe/Berlin;VALUE=DATE:20220627
SEQUENCE:0
TRANSP:OPAQUE
END:VEVENT
END:VCALENDAR