BEGIN:VCALENDAR
VERSION:2.0
PRODID:-//jEvents 2.0 for Joomla//EN
CALSCALE:GREGORIAN
METHOD:PUBLISH
BEGIN:VTIMEZONE
TZID:Europe/Berlin
BEGIN:STANDARD
DTSTART:20201118T193000
RDATE:20210328T030000
TZOFFSETFROM:+0200
TZOFFSETTO:+0100
TZNAME:Europe/Berlin CET
END:STANDARD
END:VTIMEZONE
BEGIN:VEVENT
UID:8123441256a9380431ac01b3079d11ed
CATEGORIES:Terminliste
CREATED:20211021T201328
SUMMARY:Grünkohl essen
DESCRIPTION;ENCODING=QUOTED-PRINTABLE:<p>Grünkohl essen</p>
DTSTAMP:20260419T204102Z
DTSTART;TZID=Europe/Berlin:20211119T193000
SEQUENCE:0
TRANSP:OPAQUE
END:VEVENT
END:VCALENDAR