BEGIN:VCALENDAR
VERSION:2.0
PRODID:-//jEvents 2.0 for Joomla//EN
CALSCALE:GREGORIAN
METHOD:PUBLISH
BEGIN:VTIMEZONE
TZID:Europe/Berlin
BEGIN:STANDARD
DTSTART:20201228T110000
RDATE:20210328T030000
TZOFFSETFROM:+0200
TZOFFSETTO:+0100
TZNAME:Europe/Berlin CET
END:STANDARD
END:VTIMEZONE
BEGIN:VEVENT
UID:86fe5c6bd4cfd41fc4496dc9ec119614
CATEGORIES:Terminliste
CREATED:20211010T175346
SUMMARY:Zwischen den Jahren
DESCRIPTION;ENCODING=QUOTED-PRINTABLE:\n\nAbgrillen und Angroggen im Bootshaus ab 11 Uhr, Anmedlung erforderlich\
 n
DTSTAMP:20260422T074333Z
DTSTART;TZID=Europe/Berlin:20211229T110000
SEQUENCE:0
TRANSP:OPAQUE
END:VEVENT
END:VCALENDAR