BEGIN:VCALENDAR
VERSION:2.0
PRODID:-//jEvents 2.0 for Joomla//EN
CALSCALE:GREGORIAN
METHOD:PUBLISH
BEGIN:VTIMEZONE
TZID:Europe/Berlin
BEGIN:STANDARD
DTSTART:20201127T000000
RDATE:20210328T030000
TZOFFSETFROM:+0200
TZOFFSETTO:+0100
TZNAME:Europe/Berlin CET
END:STANDARD
END:VTIMEZONE
BEGIN:VEVENT
UID:7f68d9aec60903e0476c13816db50082
CATEGORIES:Terminliste
CREATED:20210702T152513
SUMMARY:Adventsrudern
DESCRIPTION;ENCODING=QUOTED-PRINTABLE:<p>Adventsrudern zum Großen Meer mit ostfriesischem Buffet</p><p>Aushang be
 achten</p><p>Anmeldung erst durch Zahlungseingang verbindlich&nbsp;</p><p>&
 nbsp;</p>
DTSTAMP:20260423T164709Z
DTSTART;TZID=Europe/Berlin;VALUE=DATE:20211128
DTEND;TZID=Europe/Berlin;VALUE=DATE:20211129
SEQUENCE:0
TRANSP:OPAQUE
END:VEVENT
END:VCALENDAR