BEGIN:VCALENDAR
VERSION:2.0
PRODID:-//jEvents 2.0 for Joomla//EN
CALSCALE:GREGORIAN
METHOD:PUBLISH
BEGIN:VTIMEZONE
TZID:Europe/Berlin
BEGIN:STANDARD
DTSTART:20201025T020000
RDATE:20210328T030000
TZOFFSETFROM:+0200
TZOFFSETTO:+0100
TZNAME:Europe/Berlin CET
END:STANDARD
BEGIN:DAYLIGHT
DTSTART:20200916T000000
RDATE:20201025T020000
TZOFFSETFROM:+0100
TZOFFSETTO:+0200
TZNAME:Europe/Berlin CEST
END:DAYLIGHT
END:VTIMEZONE
BEGIN:VEVENT
UID:f3f65f978baf3051493ef7d290f8317c
CATEGORIES:Terminliste
CREATED:20210702T151519
SUMMARY:Lampionfahrt
DESCRIPTION;ENCODING=QUOTED-PRINTABLE:
DTSTAMP:20260419T135706Z
DTSTART;TZID=Europe/Berlin;VALUE=DATE:20210917
DTEND;TZID=Europe/Berlin;VALUE=DATE:20210918
SEQUENCE:0
TRANSP:OPAQUE
END:VEVENT
END:VCALENDAR