BEGIN:VCALENDAR
VERSION:2.0
PRODID:-//jEvents 2.0 for Joomla//EN
CALSCALE:GREGORIAN
METHOD:PUBLISH
BEGIN:VTIMEZONE
TZID:Europe/Berlin
BEGIN:STANDARD
DTSTART:20191115T093000
RDATE:20200329T030000
TZOFFSETFROM:+0200
TZOFFSETTO:+0100
TZNAME:Europe/Berlin CET
END:STANDARD
BEGIN:STANDARD
DTSTART:20201025T020000
RDATE:20210328T030000
TZOFFSETFROM:+0200
TZOFFSETTO:+0100
TZNAME:Europe/Berlin CET
END:STANDARD
BEGIN:DAYLIGHT
DTSTART:20200329T030000
RDATE:20201025T020000
TZOFFSETFROM:+0100
TZOFFSETTO:+0200
TZNAME:Europe/Berlin CEST
END:DAYLIGHT
END:VTIMEZONE
BEGIN:VEVENT
UID:06e5a146d47c324c546d8bdc0e361c84
CATEGORIES:Terminliste
CREATED:20201009T153852
SUMMARY:Abgesagt! Frühschoppen bei Feldkamp
DESCRIPTION;ENCODING=QUOTED-PRINTABLE:<p>Veranstaltung muss aufgrund der verschärften Corona-Auflagen leider entf
 allen!</p>
DTSTAMP:20260424T152647Z
DTSTART;TZID=Europe/Berlin:20201115T093000
SEQUENCE:0
TRANSP:OPAQUE
END:VEVENT
END:VCALENDAR